BEGIN:VCALENDAR
VERSION:2.0
PRODID:-//Swim For Your Life - ECPv6.15.20//NONSGML v1.0//EN
CALSCALE:GREGORIAN
METHOD:PUBLISH
X-WR-CALNAME:Swim For Your Life
X-ORIGINAL-URL:https://swim.jarilostaging4.co.uk
X-WR-CALDESC:Events for Swim For Your Life
REFRESH-INTERVAL;VALUE=DURATION:PT1H
X-Robots-Tag:noindex
X-PUBLISHED-TTL:PT1H
BEGIN:VTIMEZONE
TZID:Europe/London
BEGIN:DAYLIGHT
TZOFFSETFROM:+0000
TZOFFSETTO:+0100
TZNAME:BST
DTSTART:20240331T010000
END:DAYLIGHT
BEGIN:STANDARD
TZOFFSETFROM:+0100
TZOFFSETTO:+0000
TZNAME:GMT
DTSTART:20241027T010000
END:STANDARD
BEGIN:DAYLIGHT
TZOFFSETFROM:+0000
TZOFFSETTO:+0100
TZNAME:BST
DTSTART:20250330T010000
END:DAYLIGHT
BEGIN:STANDARD
TZOFFSETFROM:+0100
TZOFFSETTO:+0000
TZNAME:GMT
DTSTART:20251026T010000
END:STANDARD
BEGIN:DAYLIGHT
TZOFFSETFROM:+0000
TZOFFSETTO:+0100
TZNAME:BST
DTSTART:20260329T010000
END:DAYLIGHT
BEGIN:STANDARD
TZOFFSETFROM:+0100
TZOFFSETTO:+0000
TZNAME:GMT
DTSTART:20261025T010000
END:STANDARD
END:VTIMEZONE
BEGIN:VEVENT
DTSTART;TZID=Europe/London:20250319T080000
DTEND;TZID=Europe/London:20250319T170000
DTSTAMP:20260421T142821
CREATED:20250319T151131Z
LAST-MODIFIED:20250319T151315Z
UID:574-1742371200-1742403600@swim.jarilostaging4.co.uk
SUMMARY:test
DESCRIPTION:
URL:https://swim.jarilostaging4.co.uk/event/test/
CATEGORIES:Fund Raising Swim Events
END:VEVENT
BEGIN:VEVENT
DTSTART;TZID=Europe/London:20250308T093000
DTEND;TZID=Europe/London:20250308T103000
DTSTAMP:20260421T142821
CREATED:20250304T093313Z
LAST-MODIFIED:20250319T151627Z
UID:345-1741426200-1741429800@swim.jarilostaging4.co.uk
SUMMARY:SUNDAY 12th JANUARY 09:30 - 10:30hrs - LIVERPOOL
DESCRIPTION:We invite you to join us at the Liverpool Water Sports Centre. We will meet at the green astro turf ramp  at 09:30hrs  for a quick intro and safety brief before getting changed and jumping in for a group swim.  We will swim for about 30 mins – 1 hour before going for a coffee. Here is the Liverpool Water Sports Centre website: https://www.liverpoolwatersports.org.uk \nPlease send us an email in advance just to let us know you will come along.  team@swimforyourlife.net
URL:https://swim.jarilostaging4.co.uk/event/sunday-12th-january-0930-1030hrs-liverpool/
LOCATION:Liverpool Water Sports Centre\, Queens Dock\, 110 Mariners Wharf\, Liverpool L3 4DG\, Liverpool\, Merseyside\, L3 4DG\, United Kingdom
CATEGORIES:Group Open water Swims
ATTACH;FMTTYPE=image/webp:https://swim.jarilostaging4.co.uk/wp-content/uploads/2025/02/563B9DDC-F330-43A2-9FFA-3054FD3A5E10.webp
END:VEVENT
END:VCALENDAR